Workbook

Sheet 封面
A1: 附件7：
B9: 鹤山市2017年宅梧镇一般公共预算收支表(预、决算）
B24: 编制单位：宅梧镇 | I24: 编制日期： 2018 年 1 月 20 日

Sheet 收支总表
A2: 鹤山市2017年宅梧镇一般公共预算收支决算总表
J3: 单位：万元
A4: 收入项目 | F4: 支出项目
A5: 科目号 | B5: 科目名称 | C5: 2017年预算 | D5: 调整预算数 | E5: 决算数 | F5: 科目号 | G5: 科目名称 | H5: 2017年预算 | I5: 调整预算数 | J5: 决算数
A6: 一、一般公共预算收入 | C6: =SUM(C7:C8) -> 3740 | D6: =SUM(D7:D8) -> 493 | E6: =SUM(E7:E8) -> 4108 | F6: 一、一般公共预算支出 | H6: =SUM(H7:H28) -> 10952.82 | I6: =SUM(I7:I28) -> 1615 | J6: =SUM(J7:J28) -> 12927
A7: 101 | B7: 税收收入 | C7: 2340 | D7: 183 | E7: 1667 | F7: 201 | G7: 一般公共服务支出 | H7: 2337.65 | I7: 1421 | J7: 2737
A8: 103 | B8: 非税收入 | C8: 1400 | D8: 310 | E8: 2441 | F8: 203 | G8: 国防支出 | H8: 16 | J8: =H8+I8 -> 16
A9: 二、上级补助收入 | C9: =SUM(C10:C12) -> 6967 | D9: =SUM(D10:D12) -> 1876 | E9: =SUM(E10:E12) -> 8843 | F9: 204 | G9: 公共安全支出 | H9: 255.19 | I9: 12 | J9: 282
A10: 11001 | B10: 返还性收入 | E10: =C10+D10 -> 0 | F10: 205 | G10: 教育支出 | H10: 2175.72 | I10: 103 | J10: 1971
A11: 11002 | B11: 一般性转移支付收入 | C11: 6967 | D11: =E11-C11 -> 1876 | E11: 8843 | F11: 206 | G11: 科学技术支出 | J11: =H11+I11 -> 0
A12: 11003 | B12: 专项转移支付收入 | E12: =C12+D12 -> 0 | F12: 207 | G12: 文化体育与传媒支出 | H12: 40.94 | I12: 2 | J12: 48
A13: 三、债务转贷收入 | E13: =C13+D13 -> 0 | F13: 208 | G13: 社会保障和就业支出 | H13: 2624.62 | I13: 42 | J13: 2833
A14: 四、上年结余结转 | C14: 246 | E14: 246 | F14: 210 | G14: 医疗卫生与计划生育支出 | H14: 2434 | I14: 10 | J14: 1938
A15: 五、调入资金 | E15: =C15+D15 -> 0 | F15: 211 | G15: 节能环保支出 | H15: 270 | J15: 10
E16: =C16+D16 -> 0 | F16: 212 | G16: 城乡社区支出 | H16: 43.1 | J16: 2035
E17: =C17+D17 -> 0 | F17: 213 | G17: 农林水支出 | H17: 381.66 | I17: 5 | J17: 798
E18: =C18+D18 -> 0 | F18: 214 | G18: 交通运输支出 | H18: 7.82 | J18: 117
E19: =C19+D19 -> 0 | F19: 215 | G19: 资源勘探信息等支出 | H19: 11 | J19: 3
E20: =C20+D20 -> 0 | F20: 216 | G20: 商业服务业等支出 | J20: 19
E21: =C21+D21 -> 0 | F21: 217 | G21: 金融支出
E22: =C22+D22 -> 0 | F22: 220 | G22: 国土海洋气象等支出 | J22: =H22+I22 -> 0
E23: =C23+D23 -> 0 | F23: 221 | G23: 住房保障支出 | H23: 102.56 | I23: 20 | J23: 120
E24: =C24+D24 -> 0 | F24: 222 | G24: 粮油物资储备支出 | J24: =H24+I24 -> 0
E25: =C25+D25 -> 0 | F25: 227 | G25: 预备费 | J25: =H25+I25 -> 0
E26: =C26+D26 -> 0 | F26: 229 | G26: 其他支出 | H26: 252.56
E27: =C27+D27 -> 0 | F27: 232 | G27: 债务付息支出 | J27: =H27+I27 -> 0
E28: =C28+D28 -> 0 | F28: 233 | G28: 债务发行费用支出 | J28: =H28+I28 -> 0
E29: =C29+D29 -> 0 | F29: 二、上解上级支出 | J29: =H29+I29 -> 0
E30: =C30+D30 -> 0 | F30: 三、债务还本支出 | J30: =H30+I30 -> 0
E31: =C31+D31 -> 0 | F31: 四、年终结转 | J31: 270
E32: =C32+D32 -> 0 | F32: 五、安排预算稳定调节基金 | J32: =H32+I32 -> 0
A33: 收入合计 | C33: =C6+C9+C13+C14+C15 -> 10953 | D33: =D6+D9+D13+D14+D15 -> 2369 | E33: =E6+E9+E13+E14+E15 -> 13197 | F33: 支出合计 | H33: =H6+H29+H30+H31+H32 -> 10952.82 | I33: =I6+I29+I30+I31+I32 -> 1615 | J33: =J6+J31 -> 13197

Sheet 一般预算收入
A2: 鹤山市2017年宅梧镇一般公共预算收入（决）算表
E3: 单位:万元
A4: 科目号 | B4: 科目名称 | C4: 2017年预算 | D4: 调整预算数 | E4: 决算数
A5: 一、一般公共预算收入 | C5: =C6+C20 -> 3740 | D5: =D6+D20 -> 493 | E5: =E6+E20 -> 4108
A6: 101 | B6: 税收收入 | C6: =SUM(C7:C19) -> 2340 | D6: =SUM(D7:D19) -> 183 | E6: =SUM(E7:E19) -> 1667
A7: 10101 | B7: 增值税 | C7: 1010 | D7: 140 | E7: 1009
A8: 10103 | B8: 营业税 | C8: 100 | D8: -100
A9: 10104 | B9: 企业所得税 | C9: 40 | D9: 33 | E9: 53
A10: 10106 | B10: 个人所得税 | C10: 160 | D10: 20 | E10: 94
A11: 10107 | B11: 资源税 | C11: 50 | D11: -40 | E11: 11
A12: 10109 | B12: 城市维护建设税 | C12: 340 | D12: 10 | E12: 260
A13: 10110 | B13: 房产税 | C13: 270 | D13: 0 | E13: 47
A14: 10111 | B14: 印花税 | C14: 28 | D14: 20 | E14: 37
A15: 10112 | B15: 城镇土地使用税 | C15: 230 | D15: 0 | E15: 66
A16: 10113 | B16: 土地增值税 | C16: 40 | D16: 60 | E16: 38
A17: 10114 | B17: 车船税 | C17: 15 | D17: 40 | E17: 52
A18: 10118 | B18: 耕地占用税 | C18: 52
A19: 10119 | B19: 契税 | C19: 5
A20: 103 | B20: 非税收入 | C20: =SUM(C21:C28) -> 1400 | D20: =SUM(D21:D28) -> 310 | E20: =SUM(E21:E28) -> 2441
A21: 10302 | B21: 专项收入 | E21: =C21+D21 -> 0
A22: 10304 | B22: 行政事业性收费收入 | E22: =C22+D22 -> 0
A23: 10305 | B23: 罚没收入 | E23: =C23+D23 -> 0
A24: 10306 | B24: 国有资本经营收入 | E24: =C24+D24 -> 0
A25: 10307 | B25: 国有资源（资产）有偿使用收入 | C25: 150 | D25: 0 | E25: 180
A26: 10308 | B26: 捐赠收入 | E26: =C26+D26 -> 0
A27: 10309 | B27: 政府住房基金收入 | E27: =C27+D27 -> 0
A28: 10399 | B28: 其他收入 | C28: 1250 | D28: 310 | E28: 2261
A29: 二、上级补助收入 | C29: 6967 | D29: =D30+D35+D45 -> 1876 | E29: =E30+E35 -> 8843
A30: 11001 | B30: 返还性收入 | C30: =SUM(C31:C34) -> 0 | D30: =SUM(D31:D34) -> 0 | E30: =C30+D30 -> 0
A31: 1100101 | B31: 增值税和消费税税收返还收入 | E31: =C31+D31 -> 0
A32: 1100102 | B32: 所得税基数返还收入 | E32: =C32+D32 -> 0
A33: 1100103 | B33: 成品油价格和税费改革税收返还收入 | E33: =C33+D33 -> 0
A34: 1100199 | B34: 其他税收返还收入 | E34: =C34+D34 -> 0
A35: 11002 | B35: 一般性转移支付收入 | C35: 6967 | D35: 1876 | E35: =SUM(E36:E44) -> 8843
A36: 1100202 | B36: 均衡性转移支付收入 | E36: =C36+D36 -> 0
A37: 1100208 | B37: 结算补助收入 | E37: =C37+D37 -> 0
A38: 1100214 | B38: 企业事业单位划转补助收入 | E38: =C38+D38 -> 0
A39: 1100221 | B39: 城乡义务教育等转移支付收入 | E39: =C39+D39 -> 0
A40: 1100222 | B40: 基本养老金转移支付收入 | E40: =C40+D40 -> 0
A41: 1100223 | B41: 城乡居民医疗保险转移支付收入 | E41: =C41+D41 -> 0
...

Sheet 一般预算支出-功能
A2: 鹤山市2017年宅梧镇一般公共预算支出预（决）算表
B3: （功能分类支出） | E3: 单位:万元
A4: 科目号 | B4: 科目名称 | C4: 2017年预算 | D4: 调整预算数 | E4: 决算数
A5: 一、一般公共预算支出 | C5: =SUM(C6,C259,C277,C398,C453,C507,C556,C671,C743,C792,C816,C934,C981,C1027,C1054,C1057,C1095,C1113,C1149,C1150,C1154,C1158) -> 10952.63 | D5: =SUM(D6,D259,D277,D398,D453,D507,D556,D671,D743,D792,D816,D934,D981,D1027,D1054,D1057,D1095,D1113,D1149,D1150,D1154,D1158) -> 1615 | E5: =E6+E259+E277+E398+E453+E507+E556+E671+E743+E792+E816+E934+E981+E1027+E1054+E1057+E1095+E1113+E1149+E1150+E1154+E1158 -> 12927.07
A6: 201 | B6: 一般公共服务支出 | C6: =SUM(C7,C19,C28,C40,C52,C63,C74,C86,C95,C105,C120,C129,C140,C152,C162,C175,C182,C189,C198,C204,C211,C219,C226,C232,C238,C244,C250,C256) -> 2337.65 | D6: =SUM(D7,D19,D28,D40,D52,D63,D74,D86,D95,D105,D120,D129,D140,D152,D162,D175,D182,D189,D198,D204,D211,D219,D226,D232,D238,D244,D250,D256) -> 1421 | E6: =E7+E19+E28+E40+E52+E63+E74+E86+E95+E105+E120+E129+E152+E162+E189+E198+E204+E211+E219+E226+E232+E238+E256 -> 2736.58
A7: 20101 | B7: 人大事务 | C7: =SUM(C8:C18) -> 15 | D7: =SUM(D8:D18) -> 0 | E7: =SUM(E8:E18) -> 15
A8: 2010101 | B8: 行政运行 | E8: =C8+D8 -> 0
A9: 2010102 | B9: 一般行政管理事务 | E9: =C9+D9 -> 0
A10: 2010103 | B10: 机关服务 | E10: =C10+D10 -> 0
A11: 2010104 | B11: 人大会议 | C11: 15 | E11: =C11+D11 -> 15
A12: 2010105 | B12: 人大立法 | E12: =C12+D12 -> 0
A13: 2010106 | B13: 人大监督 | E13: =C13+D13 -> 0
A14: 2010107 | B14: 人大代表履职能力提升 | E14: =C14+D14 -> 0
A15: 2010108 | B15: 代表工作 | E15: =C15+D15 -> 0
A16: 2010109 | B16: 人大信访工作 | E16: =C16+D16 -> 0
A17: 2010150 | B17: 事业运行 | E17: =C17+D17 -> 0
A18: 2010199 | B18: 其他人大事务支出 | E18: =C18+D18 -> 0
A19: 20102 | B19: 政协事务 | C19: =SUM(C20:C27) -> 6 | D19: =SUM(D20:D27) -> 0 | E19: =SUM(E20:E27) -> 6
A20: 2010201 | B20: 行政运行 | E20: =C20+D20 -> 0
A21: 2010202 | B21: 一般行政管理事务 | E21: =C21+D21 -> 0
A22: 2010203 | B22: 机关服务 | E22: =C22+D22 -> 0
A23: 2010204 | B23: 政协会议 | C23: 6 | E23: =C23+D23 -> 6
A24: 2010205 | B24: 委员视察 | E24: =C24+D24 -> 0
A25: 2010206 | B25: 参政议政 | E25: =C25+D25 -> 0
A26: 2010250 | B26: 事业运行 | E26: =C26+D26 -> 0
A27: 2010299 | B27: 其他政协事务支出 | E27: =C27+D27 -> 0
A28: 20103 | B28: 政府办公厅（室）及相关机构事务 | C28: =SUM(C29:C39) -> 2126.53 | D28: =SUM(D29:D39) -> 1416 | E28: =SUM(E29:E39) -> 2553
A29: 2010301 | B29: 行政运行 | C29: 956.85 | D29: 52 | E29: 1027
A30: 2010302 | B30: 一般行政管理事务 | C30: 1014.68 | D30: 1357 | E30: 1384
A31: 2010303 | B31: 机关服务 | C31: 125 | D31: 7 | E31: 89
A32: 2010304 | B32: 专项服务 | E32: =C32+D32 -> 0
A33: 2010305 | B33: 专项业务活动 | E33: =C33+D33 -> 0
A34: 2010306 | B34: 政务公开审批 | E34: =C34+D34 -> 0
A35: 2010307 | B35: 法制建设 | E35: =C35+D35 -> 0
A36: 2010308 | B36: 信访事务 | E36: =C36+D36 -> 0
A37: 2010309 | B37: 参事事务 | E37: =C37+D37 -> 0
A38: 2010350 | B38: 事业运行 | E38: 23
A39: 2010399 | B39: 其他政府办公厅（室）及相关机构事务支出 | C39: 30 | E39: =C39+D39 -> 30
A40: 20104 | B40: 发展与改革事务 | C40: =SUM(C41:C51) -> 0 | D40: =SUM(D41:D51) -> 0 | E40: =SUM(E41:E51) -> 0
A41: 2010401 | B41: 行政运行 | E41: =C41+D41 -> 0
...

Sheet 一般预算支出-经济
A2: 鹤山市2017年宅梧镇一般公共预算支出（决）算表
B3: （经济分类支出） | E3: 单位:万元
A4: 科目号 | B4: 科目名称 | C4: 2017年预算 | D4: 调整预算数 | E4: 决算数
A5: 一、一般公共预算支出 | C5: =C6+C17+C50+C67+C72+C74+C76+C79+C90+C106 -> 10952.63 | D5: =D6+D17+D50+D67+D72+D74+D76+D79+D90+D106 -> 1615 | E5: =E6+E17+E50 -> 12927
A6: 301 | B6: 工资福利支出 | C6: =SUM(C7:C16) -> 3180.93 | D6: =SUM(D7:D16) -> 141 | E6: =SUM(E7:E16) -> 3069
A7: 30101 | B7: 基本工资 | C7: 1316.02 | D7: 123 | E7: 1636
A8: 30102 | B8: 津贴补贴 | C8: 410.03 | E8: 611
A9: 30103 | B9: 奖金 | C9: 318.24 | E9: 187
A10: 30104 | B10: 其他社会保障缴费 | C10: 206.19 | E10: 359
A11: 30105 | B11: 伙食费 | E11: =C11+D11 -> 0
A12: 30106 | B12: 伙食补助费 | E12: 31
A13: 30107 | B13: 绩效工资 | C13: 150.83 | E13: 245
A14: 30108 | B14: 机关事业单位基本养老保险缴费 | C14: 226.72 | D14: 18 | E14: 0
A15: 30109 | B15: 职业年金缴费 | C15: 132.9 | E15: 0
A16: 30199 | B16: 其他工资福利支出 | C16: 420 | E16: 0
A17: 302 | B17: 商品和服务支出 | C17: =SUM(C18:C49) -> 2650.61 | D17: =SUM(D18:D49) -> 1357 | E17: =SUM(E18:E49) -> 5276
A18: 30201 | B18: 办公费 | C18: 15 | D18: 57 | E18: 240
A19: 30202 | B19: 印刷费 | E19: =C19+D19 -> 0
A20: 30203 | B20: 咨询费 | E20: =C20+D20 -> 0
A21: 30204 | B21: 手续费 | E21: =C21+D21 -> 0
A22: 30205 | B22: 水费 | C22: 24 | E22: 8
A23: 30206 | B23: 电费 | E23: 5
A24: 30207 | B24: 邮电费 | C24: 21.23 | E24: 34
A25: 30208 | B25: 取暖费 | E25: =C25+D25 -> 0
A26: 30209 | B26: 物业管理费 | E26: =C26+D26 -> 0
A27: 30211 | B27: 差旅费 | E27: 3
A28: 30212 | B28: 因公出国（境）费用 | E28: =C28+D28 -> 0
A29: 30213 | B29: 维修(护)费 | C29: 24 | E29: 2909
A30: 30214 | B30: 租赁费 | E30: =C30+D30 -> 0
A31: 30215 | B31: 会议费 | C31: 36 | E31: 41
A32: 30216 | B32: 培训费 | C32: 11.36 | E32: 10
A33: 30217 | B33: 公务接待费 | C33: 57 | E33: 62
A34: 30218 | B34: 专用材料费 | E34: 592
A35: 30219 | B35: 装备购置费 | E35: =C35+D35 -> 0
A36: 30220 | B36: 工程建设费 | E36: =C36+D36 -> 0
A37: 30221 | B37: 作战费 | E37: =C37+D37 -> 0
A38: 30222 | B38: 军用油料费 | E38: =C38+D38 -> 0
A39: 30223 | B39: 军队其他运行维护费 | E39: =C39+D39 -> 0
A40: 30224 | B40: 被装购置费 | E40: 2
A41: 30225 | B41: 专用燃料费 | E41: =C41+D41 -> 0
...
