Workbook

Sheet 封面
A1: 附件1
A9: 2024年鹤山市本级一般公共预算 调整表
A21: 编制单位：鹤山市财政局 | I21: 编制日期：2024年 月 日

Sheet 总表
A1: 附件1-1
A2: 2024年鹤山市本级一般公共预算调整情况表
J3: 单位：万元
A4: 收入项目 | F4: 支出项目
A5: 科目号 | B5: 科目名称 | C5: 2024年预算 | D5: 第二次调整 | F5: 科目号 | G5: 科目名称 | H5: 2024年预算 | I5: 第二次调整
D6: 调整金额 | E6: 调整后 预算数 | I6: 调整金额 | J6: 调整后 预算数
A7: 一、一般公共预算收入 | C7: =本级一般公共预算收入!C6 -> 264083 | D7: =E7-C7 -> 0 | E7: =本级一般公共预算收入!E6 -> 264083 | F7: 一、一般公共预算支出 | H7: ='本级一般预算支出-功能'!C7 -> 347865 | I7: =J7-H7 -> 9205 | J7: ='本级一般预算支出-功能'!E7 -> 357070
A8: 101 | B8: 税收收入 | C8: =本级一般公共预算收入!C7 -> 146361 | D8: =E8-C8 -> -26323 | E8: =本级一般公共预算收入!E7 -> 120038 | F8: 201 | G8: 一般公共服务支出 | H8: ='本级一般预算支出-功能'!C8 -> 37229 | I8: =J8-H8 -> -8284 | J8: ='本级一般预算支出-功能'!E8 -> 28945
A9: 103 | B9: 非税收入 | C9: =本级一般公共预算收入!C22 -> 117722 | D9: =E9-C9 -> 26323 | E9: =本级一般公共预算收入!E22 -> 144045 | F9: 203 | G9: 国防支出 | H9: ='本级一般预算支出-功能'!C289 -> 924 | I9: =J9-H9 -> -361 | J9: ='本级一般预算支出-功能'!E289 -> 563
A10: 二、上级补助收入 | C10: =本级一般公共预算收入!C31 -> 68815 | D10: =E10-C10 -> 80808 | E10: =本级一般公共预算收入!E31 -> 149623 | F10: 204 | G10: 公共安全支出 | H10: ='本级一般预算支出-功能'!C308 -> 26353 | I10: =J10-H10 -> -3257 | J10: ='本级一般预算支出-功能'!E308 -> 23096
A11: 11001 | B11: 返还性收入 | C11: =本级一般公共预算收入!C32 -> 28076 | D11: =E11-C11 -> 0 | E11: =本级一般公共预算收入!E32 -> 28076 | F11: 205 | G11: 教育支出 | H11: ='本级一般预算支出-功能'!C398 -> 69879 | I11: =J11-H11 -> -9366 | J11: ='本级一般预算支出-功能'!E398 -> 60513
A12: 11002 | B12: 一般性转移支付收入 | C12: =本级一般公共预算收入!C33 -> 38122 | D12: =E12-C12 -> 49534 | E12: =本级一般公共预算收入!E33 -> 87656 | F12: 206 | G12: 科学技术支出 | H12: ='本级一般预算支出-功能'!C450 -> 6788 | I12: =J12-H12 -> 5436 | J12: ='本级一般预算支出-功能'!E450 -> 12224
A13: 11003 | B13: 专项转移支付收入 | C13: =本级一般公共预算收入!C34 -> 2617 | D13: =E13-C13 -> 31274 | E13: =本级一般公共预算收入!E34 -> 33891 | F13: 207 | G13: 文化旅游体育与传媒支出 | H13: ='本级一般预算支出-功能'!C506 -> 7764 | I13: =J13-H13 -> -3837 | J13: ='本级一般预算支出-功能'!E506 -> 3927
A14: 三、债务转贷收入 | C14: =本级一般公共预算收入!C35 -> 500 | D14: =E14-C14 -> 0 | E14: =本级一般公共预算收入!E35 -> 500 | F14: 208 | G14: 社会保障和就业支出 | H14: ='本级一般预算支出-功能'!C563 -> 62789 | I14: =J14-H14 -> 2848 | J14: ='本级一般预算支出-功能'!E563 -> 65637
A15: 四、上年结转收入 | C15: =本级一般公共预算收入!C38 -> 1925 | D15: =E15-C15 -> 5200 | E15: =本级一般公共预算收入!E38 -> 7125 | F15: 210 | G15: 卫生健康支出 | H15: ='本级一般预算支出-功能'!C692 -> 29439 | I15: =J15-H15 -> 10403 | J15: ='本级一般预算支出-功能'!E692 -> 39842
A16: 五、调入资金 | C16: =本级一般公共预算收入!C40 -> 105086 | D16: =E16-C16 -> -53898 | E16: =本级一般公共预算收入!E40 -> 51188 | F16: 211 | G16: 节能环保支出 | H16: ='本级一般预算支出-功能'!C773 -> 3173 | I16: =J16-H16 -> 6462 | J16: ='本级一般预算支出-功能'!E773 -> 9635
A17: 六、动用预算稳定调节基金 | C17: =本级一般公共预算收入!C45 -> 3294 | D17: =E17-C17 -> 2147 | E17: =本级一般公共预算收入!E45 -> 5441 | F17: 212 | G17: 城乡社区支出 | H17: ='本级一般预算支出-功能'!C844 -> 18343 | I17: =J17-H17 -> 25853 | J17: ='本级一般预算支出-功能'!E844 -> 44196
A18: 七、镇上解县收入 | C18: =本级一般公共预算收入!C47 -> 25097 | D18: =E18-C18 -> 6779 | E18: =本级一般公共预算收入!E47 -> 31876 | F18: 213 | G18: 农林水支出 | H18: ='本级一般预算支出-功能'!C867 -> 35974 | I18: =J18-H18 -> -14452 | J18: ='本级一般预算支出-功能'!E867 -> 21522
F19: 214 | G19: 交通运输支出 | H19: ='本级一般预算支出-功能'!C975 -> 10779 | I19: =J19-H19 -> -1967 | J19: ='本级一般预算支出-功能'!E975 -> 8812
F20: 215 | G20: 资源勘探工业信息等支出 | H20: ='本级一般预算支出-功能'!C1028 -> 667 | I20: =J20-H20 -> 4064 | J20: ='本级一般预算支出-功能'!E1028 -> 4731
F21: 216 | G21: 商业服务业等支出 | H21: ='本级一般预算支出-功能'!C1091 -> 2040 | I21: =J21-H21 -> -602 | J21: ='本级一般预算支出-功能'!E1091 -> 1438
F22: 217 | G22: 金融支出 | H22: ='本级一般预算支出-功能'!C1111 -> 50 | I22: =J22-H22 -> -20 | J22: ='本级一般预算支出-功能'!E1111 -> 30
F23: 220 | G23: 自然资源海洋气象等支出 | H23: ='本级一般预算支出-功能'!C1150 -> 2828 | I23: =J23-H23 -> -440 | J23: ='本级一般预算支出-功能'!E1150 -> 2388
F24: 221 | G24: 住房保障支出 | H24: ='本级一般预算支出-功能'!C1195 -> 14121 | I24: =J24-H24 -> -2205 | J24: ='本级一般预算支出-功能'!E1195 -> 11916
F25: 222 | G25: 粮油物资储备支出 | H25: ='本级一般预算支出-功能'!C1216 -> 1400 | I25: =J25-H25 -> -82 | J25: ='本级一般预算支出-功能'!E1216 -> 1318
F26: 224 | G26: 灾害防治及应急管理支出 | H26: ='本级一般预算支出-功能'!C1261 -> 4087 | I26: =J26-H26 -> -898 | J26: ='本级一般预算支出-功能'!E1261 -> 3189
F27: 227 | G27: 预备费 | H27: ='本级一般预算支出-功能'!C1311 -> 5100 | I27: =J27-H27 -> 0 | J27: ='本级一般预算支出-功能'!E1311 -> 5100
F28: 229 | G28: 其他支出 | H28: ='本级一般预算支出-功能'!C1312 -> 0 | I28: =J28-H28 -> 0 | J28: ='本级一般预算支出-功能'!E1312 -> 0
F29: 232 | G29: 债务付息支出 | H29: ='本级一般预算支出-功能'!C1317 -> 8122 | I29: =J29-H29 -> -75 | J29: ='本级一般预算支出-功能'!E1317 -> 8047
F30: 233 | G30: 债务发行费用支出 | H30: ='本级一般预算支出-功能'!C1325 -> 16 | I30: =J30-H30 -> -15 | J30: ='本级一般预算支出-功能'!E1325 -> 1
F31: 二、上解支出 | H31: ='本级一般预算支出-功能'!C1330 -> 66823 | I31: =J31-H31 -> 11841 | J31: ='本级一般预算支出-功能'!E1330 -> 78664
F32: 三、县对镇的补助支出 | H32: ='本级一般预算支出-功能'!C1336 -> 53612 | I32: =J32-H32 -> 0 | J32: ='本级一般预算支出-功能'!E1336 -> 53612
F33: 四、债务还本支出 | H33: ='本级一般预算支出-功能'!C1339 -> 500 | I33: =J33-H33 -> 0 | J33: ='本级一般预算支出-功能'!E1339 -> 500
F34: 五、结转下年 | H34: ='本级一般预算支出-功能'!C1342 -> 0 | I34: =J34-H34 -> 19990 | J34: ='本级一般预算支出-功能'!E1342 -> 19990
F35: 六、安排预算稳定调节基金 | H35: ='本级一般预算支出-功能'!C1344 -> 0 | I35: =J35-H35 -> 0 | J35: ='本级一般预算支出-功能'!E1344 -> 0
A36: 收入合计 | C36: =C7+C10+C14+C15+C16+C17+C18 -> 468800 | D36: =E36-C36 -> 41036 | E36: =E7+E10+E14+E15+E16+E17+E18 -> 509836 | F36: 支出合计 | H36: =H7+H31+H32+H33+H34+H35 -> 468800 | I36: =J36-H36 -> 41036 | J36: =J7+J31+J32+J33+J34+J35 -> 509836

Sheet 本级一般公共预算收入
A1: 附件1-2
A2: 2024年鹤山市本级一般公共预算收入调整表
E3: 单位:万元
A4: 科目号 | B4: 科目名称 | C4: 2024年 预算 | D4: 第二次预算调整
D5: 调整金额 | E5: 调整后 预算数
A6: 一、一般公共预算收入 | C6: =C7+C22 -> 264083 | D6: =E6-C6 -> 0 | E6: =E7+E22 -> 264083
A7: 101 | B7: 税收收入 | C7: =SUBTOTAL(9,C8:C21) -> 146361 | D7: =E7-C7 -> -26323 | E7: =SUBTOTAL(9,E8:E21) -> 120038
A8: 10101 | B8: 增值税 | C8: 47032 | D8: =E8-C8 -> -9032 | E8: 38000
A9: 10104 | B9: 企业所得税 | C9: 10863 | D9: =E9-C9 -> 437 | E9: 11300
A10: 10106 | B10: 个人所得税 | C10: 3119 | D10: =E10-C10 -> -119 | E10: 3000
A11: 10107 | B11: 资源税 | C11: 1576 | D11: =E11-C11 -> 624 | E11: 2200
A12: 10109 | B12: 城市维护建设税 | C12: 11447 | D12: =E12-C12 -> -2457 | E12: 8990
A13: 10110 | B13: 房产税 | C13: 15312 | D13: =E13-C13 -> -1812 | E13: 13500
A14: 10111 | B14: 印花税 | C14: 3549 | D14: =E14-C14 -> 651 | E14: 4200
A15: 10112 | B15: 城镇土地使用税 | C15: 6130 | D15: =E15-C15 -> -830 | E15: 5300
A16: 10113 | B16: 土地增值税 | C16: 15662 | D16: =E16-C16 -> -5762 | E16: 9900
A17: 10114 | B17: 车船税 | C17: 2980 | D17: =E17-C17 -> 0 | E17: 2980
A18: 10118 | B18: 耕地占用税 | C18: 3558 | D18: =E18-C18 -> -3058 | E18: 500
A19: 10119 | B19: 契税 | C19: 25000 | D19: =E19-C19 -> -5000 | E19: 20000
A20: 10121 | B20: 环境保护税 | C20: 133 | D20: =E20-C20 -> 35 | E20: 168
A21: 10199 | B21: 其他税收收入 | D21: =E21-C21 -> 0
A22: 103 | B22: 非税收入 | C22: =SUBTOTAL(9,C23:C30) -> 117722 | D22: =E22-C22 -> 26323 | E22: =SUBTOTAL(9,E23:E30) -> 144045
A23: 10302 | B23: 专项收入 | C23: 13981 | D23: =E23-C23 -> 1019 | E23: 15000
A24: 10304 | B24: 行政事业性收费收入 | C24: 3838 | D24: =E24-C24 -> 1662 | E24: 5500
A25: 10305 | B25: 罚没收入 | C25: 14927 | D25: =E25-C25 -> -1677 | E25: 13250
A26: 10306 | B26: 国有资本经营收入 | C26: 11200 | D26: =E26-C26 -> 12800 | E26: 24000
A27: 10307 | B27: 国有资源（资产）有偿使用收入 | C27: 71876 | D27: =E27-C27 -> 12509 | E27: 84385
A28: 10308 | B28: 捐赠收入 | C28: 0 | D28: =E28-C28 -> 0 | E28: 0
A29: 10309 | B29: 政府住房基金收入 | C29: 1900 | D29: =E29-C29 -> 10 | E29: 1910
A30: 10399 | B30: 其他收入 | D30: =E30-C30 -> 0 | E30: 0
A31: 二、上级补助收入 | C31: =C32+C33+C34 -> 68815 | D31: =E31-C31 -> 80808 | E31: =E32+E33+E34 -> 149623
A32: 11001 | B32: 返还性收入 | C32: 28076 | D32: =E32-C32 -> 0 | E32: 28076
A33: 11002 | B33: 一般性转移支付收入 | C33: 38122 | D33: =E33-C33 -> 49534 | E33: 87656
A34: 11003 | B34: 专项转移支付收入 | C34: 2617 | D34: =E34-C34 -> 31274 | E34: 33891
A35: 三、债务转贷收入 | C35: =C36 -> 500 | D35: =E35-C35 -> 0 | E35: =E36 -> 500
A36: 1101101 | B36: 地方政府一般债务转贷收入 | C36: =C37 -> 500 | D36: =E36-C36 -> 0 | E36: =E37 -> 500
A37: 110110101 | B37: 地方政府一般债券转贷收入 | C37: 500 | D37: =E37-C37 -> 0 | E37: 500
A38: 四、上年结转收入 | C38: =C39 -> 1925 | D38: =E38-C38 -> 5200 | E38: =E39 -> 7125
A39: 11008 | B39: 上年结转收入 | C39: 1925 | D39: =E39-C39 -> 5200 | E39: 7125
A40: 五、调入资金 | C40: =C41 -> 105086 | D40: =E40-C40 -> -53898 | E40: =E41 -> 51188
...

Sheet 本级一般预算支出-功能
A1: 附件1-3
A2: 2024年鹤山市本级一般公共预算支出调整表
A3: （功能分类支出）
E4: 单位:万元
A5: 科目号 | B5: 科目名称 | C5: 2024年 预算 | D5: 第二次预算调整
D6: 调整金额 | E6: 调整后 预算数
A7: 一、一般公共预算支出 | C7: =C8+C249+C289+C308+C398+C450+C506+C563+C692+C773+C844+C867+C975+C1028+C1091+C1111+C1140+C1150+C1195+C1216+C1261+C1311+C1312+C1317+C1325 -> 347865 | D7: =E7-C7 -> 9205 | E7: =E8+E249+E289+E308+E398+E450+E506+E563+E692+E773+E844+E867+E975+E1028+E1091+E1111+E1140+E1150+E1195+E1216+E1261+E1311+E1312+E1317+E1325 -> 357070
A8: 201 | B8: 一般公共服务支出 | C8: =C9+C21+C30+C40+C51+C62+C73+C81+C90+C103+C112+C123+C135+C142+C150+C156+C163+C170+C177+C184+C191+C199+C205+C211+C218+C233+C240+C246 -> 37229 | D8: =E8-C8 -> -8284 | E8: =E9+E21+E30+E40+E51+E62+E73+E81+E90+E103+E112+E123+E135+E142+E150+E156+E163+E170+E177+E184+E191+E199+E205+E211+E218+E233+E240+E246 -> 28945
A9: 20101 | B9: 人大事务 | C9: =SUM(C10:C20) -> 1386 | D9: =E9-C9 -> -449 | E9: =SUM(E10:E20) -> 937
A10: 2010101 | B10: 行政运行 | C10: 873 | D10: =E10-C10 -> -83 | E10: 790
A11: 2010102 | B11: 一般行政管理事务 | C11: 0 | D11: =E11-C11 -> 0 | E11: 0
A12: 2010103 | B12: 机关服务 | C12: 0 | D12: =E12-C12 -> 0 | E12: 0
A13: 2010104 | B13: 人大会议 | C13: 52 | D13: =E13-C13 -> -35 | E13: 17
A14: 2010105 | B14: 人大立法 | C14: 4 | D14: =E14-C14 -> -3 | E14: 1
A15: 2010106 | B15: 人大监督 | C15: 0 | D15: =E15-C15 -> 0 | E15: 0
A16: 2010107 | B16: 人大代表履职能力提升 | C16: 3 | D16: =E16-C16 -> -3 | E16: 0
A17: 2010108 | B17: 代表工作 | C17: 101 | D17: =E17-C17 -> -36 | E17: 65
A18: 2010109 | B18: 人大信访工作 | C18: 0 | D18: =E18-C18 -> 0 | E18: 0
A19: 2010150 | B19: 事业运行 | C19: 0 | D19: =E19-C19 -> 0 | E19: 0
A20: 2010199 | B20: 其他人大事务支出 | C20: 353 | D20: =E20-C20 -> -289 | E20: 64
A21: 20102 | B21: 政协事务 | C21: =SUM(C22:C29) -> 884 | D21: =E21-C21 -> -177 | E21: =SUM(E22:E29) -> 707
A22: 2010201 | B22: 行政运行 | C22: 647 | D22: =E22-C22 -> -55 | E22: 592
A23: 2010202 | B23: 一般行政管理事务 | C23: 0 | D23: =E23-C23 -> 0 | E23: 0
A24: 2010203 | B24: 机关服务 | C24: 0 | D24: =E24-C24 -> 0 | E24: 0
A25: 2010204 | B25: 政协会议 | C25: 107 | D25: =E25-C25 -> -51 | E25: 56
A26: 2010205 | B26: 委员视察 | C26: 31 | D26: =E26-C26 -> -24 | E26: 7
A27: 2010206 | B27: 参政议政 | C27: 12 | D27: =E27-C27 -> -9 | E27: 3
A28: 2010250 | B28: 事业运行 | C28: 0 | D28: =E28-C28 -> 0 | E28: 0
A29: 2010299 | B29: 其他政协事务支出 | C29: 87 | D29: =E29-C29 -> -38 | E29: 49
A30: 20103 | B30: 政府办公厅（室）及相关机构事务 | C30: =SUM(C31:C39) -> 5408 | D30: =E30-C30 -> -1063 | E30: =SUM(E31:E39) -> 4345
A31: 2010301 | B31: 行政运行 | C31: 2088 | D31: =E31-C31 -> -85 | E31: 2003
A32: 2010302 | B32: 一般行政管理事务 | C32: 0 | D32: =E32-C32 -> 0 | E32: 0
A33: 2010303 | B33: 机关服务 | C33: 161 | D33: =E33-C33 -> -108 | E33: 53
A34: 2010304 | B34: 专项服务 | C34: 0 | D34: =E34-C34 -> 0 | E34: 0
A35: 2010305 | B35: 专项业务及机关事务管理 | C35: 100 | D35: =E35-C35 -> -75 | E35: 25
A36: 2010306 | B36: 政务公开审批 | C36: 60 | D36: =E36-C36 -> -28 | E36: 32
A37: 2010309 | B37: 参事事务 | C37: 0 | D37: =E37-C37 -> 0 | E37: 0
A38: 2010350 | B38: 事业运行 | C38: 1682 | D38: =E38-C38 -> -219 | E38: 1463
A39: 2010399 | B39: 其他政府办公厅（室）及相关机构事务支出 | C39: 1317 | D39: =E39-C39 -> -548 | E39: 769
A40: 20104 | B40: 发展与改革事务 | C40: =SUM(C41:C50) -> 3035 | D40: =E40-C40 -> -522 | E40: =SUM(E41:E50) -> 2513
...

Sheet 本级一般预算支出-经济
A1: 附件1-4
A2: 2024年鹤山市本级一般公共预算支出调整表
A3: （经济分类支出）
E4: 单位:万元
A5: 科目号 | B5: 科目名称 | C5: 2024年 预算 | D5: 第二次预算调整
D6: 调整金额 | E6: 调整后 预算数
A7: 一、一般公共预算支出 | C7: =C8+C13+C24+C32+C39+C43+C46+C50+C53+C59+C62+C67+C70 -> 347865 | D7: =E7-C7 -> 9205 | E7: =E8+E13+E24+E32+E39+E43+E46+E50+E53+E59+E62+E67+E70 -> 357070
A8: 501 | B8: 机关工资福利支出 | C8: =SUM(C9:C12) -> 79511 | D8: =E8-C8 -> -1911 | E8: =SUM(E9:E12) -> 77600
A9: 50101 | B9: 工资奖金津补贴 | C9: 40369 | D9: =E9-C9 -> 1931 | E9: 42300
A10: 50102 | B10: 社会保障缴费 | C10: 11467 | D10: =E10-C10 -> 233 | E10: 11700
A11: 50103 | B11: 住房公积金 | C11: 4410 | D11: =E11-C11 -> 690 | E11: 5100
A12: 50199 | B12: 其他工资福利支出 | C12: 23265 | D12: =E12-C12 -> -4765 | E12: 18500
A13: 502 | B13: 机关商品和服务支出 | C13: =SUM(C14:C23) -> 43987 | D13: =E13-C13 -> -16097 | E13: =SUM(E14:E23) -> 27890
A14: 50201 | B14: 办公经费 | C14: 9169 | D14: =E14-C14 -> -1169 | E14: 8000
A15: 50202 | B15: 会议费 | C15: 175 | D15: =E15-C15 -> -105 | E15: 70
A16: 50203 | B16: 培训费 | C16: 511 | D16: =E16-C16 -> -291 | E16: 220
A17: 50204 | B17: 专用材料购置费 | C17: 826 | D17: =E17-C17 -> 174 | E17: 1000
A18: 50205 | B18: 委托业务费 | C18: 9485 | D18: =E18-C18 -> -2685 | E18: 6800
A19: 50206 | B19: 公务接待费 | C19: 312 | D19: =E19-C19 -> -212 | E19: 100
A20: 50207 | B20: 因公出国（境）费用 | C20: 57 | D20: =E20-C20 -> 0 | E20: 57
A21: 50208 | B21: 公务用车运行维护费 | C21: 590 | D21: =E21-C21 -> 0 | E21: 590
A22: 50209 | B22: 维修(护)费 | C22: 578 | D22: =E22-C22 -> -28 | E22: 550
A23: 50299 | B23: 其他商品和服务支出 | C23: 22284 | D23: =E23-C23 -> -11781 | E23: 10503
A24: 503 | B24: 机关资本性支出 | C24: =SUM(C25:C31) -> 14610 | D24: =E24-C24 -> -8367 | E24: =SUM(E25:E31) -> 6243
A25: 50301 | B25: 房屋建筑物购建 | C25: 47 | D25: =E25-C25 -> 0 | E25: 47
A26: 50302 | B26: 基础设施建设 | C26: 11426 | D26: =E26-C26 -> -7926 | E26: 3500
A27: 50303 | B27: 公务用车购置 | C27: 66 | D27: =E27-C27 -> 0 | E27: 66
A28: 50305 | B28: 土地征迁补偿和安置支出 | C28: 0 | D28: =E28-C28 -> 0 | E28: 0
A29: 50306 | B29: 设备购置 | C29: 1850 | D29: =E29-C29 -> -1020 | E29: 830
A30: 50307 | B30: 大型修缮 | C30: 419 | D30: =E30-C30 -> -119 | E30: 300
A31: 50399 | B31: 其他资本性支出 | C31: 802 | D31: =E31-C31 -> 698 | E31: 1500
A32: 504 | B32: 机关资本性支出（基本建设） | C32: =SUM(C33:C38) -> 0 | D32: =E32-C32 -> 0 | E32: =SUM(E33:E38) -> 0
A33: 50401 | B33: 房屋建筑物购建 | D33: =E33-C33 -> 0
A34: 50402 | B34: 基础设施建设 | D34: =E34-C34 -> 0
A35: 50403 | B35: 公务用车购置 | D35: =E35-C35 -> 0
A36: 50404 | B36: 设备购置 | D36: =E36-C36 -> 0
A37: 50405 | B37: 大型修缮 | D37: =E37-C37 -> 0
A38: 50499 | B38: 其他资本性支出 | D38: =E38-C38 -> 0
A39: 505 | B39: 对事业单位经常性补助 | C39: =SUM(C40:C42) -> 107367 | D39: =E39-C39 -> -11967 | E39: =SUM(E40:E42) -> 95400
A40: 50501 | B40: 工资福利支出 | C40: 84329 | D40: =E40-C40 -> -729 | E40: 83600
...
