Workbook

Sheet 一般预算收入
A1: 附件1
A2: 址山镇2021年一般公共预算收入预算调整表
E3: 单位:万元
A4: 科目号 | B4: 科目名称 | C4: 2021年预算 | D4: 调整预算数 | E4: 预计完成数
A5: 一、一般公共预算收入 | C5: =C6+C21 -> 8800 | E5: 8800
A6: 101 | B6: 税收收入 | C6: =SUBTOTAL(9,C7:C20) -> 7000 | E6: 7000
A7: 10101 | B7: 增值税 | C7: 3580 | E7: 3580
A8: 10104 | B8: 企业所得税 | C8: 600 | E8: 600
A9: 10106 | B9: 个人所得税 | C9: 200 | E9: 200
A10: 10107 | B10: 资源税 | C10: 8 | E10: 8
A11: 10109 | B11: 城市维护建设税 | C11: 800 | E11: 800
A12: 10110 | B12: 房产税 | C12: 500 | E12: 500
A13: 10111 | B13: 印花税 | C13: 250 | E13: 250
A14: 10112 | B14: 城镇土地使用税 | C14: 700 | E14: 700
A15: 10113 | B15: 土地增值税 | C15: 350 | E15: 350
A16: 10114 | B16: 车船税 | C16: 2 | E16: 2
A17: 10118 | B17: 耕地占用税 | C17: 0 | E17: 0
A18: 10119 | B18: 契税 | C18: 0 | E18: 0
... A20: 10199 | B20: 其他税收收入 | C20: 0 | E20: 0
A21: 103 | B21: 非税收入 | C21: =SUBTOTAL(9,C22:C29) -> 1800 | E21: 1800
A22: 10302 | B22: 专项收入 | C22: 0
A23: 10304 | B23: 行政事业性收费收入 | C23: 200 | E23: 200
A24: 10305 | B24: 罚没收入 | C24: 0
A25: 10306 | B25: 国有资本经营收入 | C25: 0
A26: 10307 | B26: 国有资源（资产）有偿使用收入 | C26: 1600 | E26: 1600
A27: 10308 | B27: 捐赠收入 | C27: 0
A28: 10309 | B28: 政府住房基金收入 | C28: 0
A29: 10399 | B29: 其他收入 | C29: 0
A30: 二、上级补助收入 | C30: =C31+C37+C58 -> 5461 | D30: 1371 | E30: =E31+E37+E58 -> 6832
A31: 11001 | B31: 返还性收入 | C31: 355 | E31: 355
A32: 1100102 | B32: 所得税基数返还收入 | C32: 0
A33: 1100103 | B33: 成品油税费改革税收返还收入 | C33: 0
A34: 1100104 | B34: 增值税税收返还收入 | C34: 0
A35: 1100106 | B35: 增值税“五五分享”税收返还收入 | C35: 0
A36: 1100199 | B36: 其他税收返还收入 | C36: 355 | E36: 355
A37: 11002 | B37: 一般性转移支付收入 | C37: 5106 | D37: 1371 | E37: 6477
A38: 1100202 | B38: 均衡性转移支付收入 | C38: 0
A39: 1100207 | B39: 县级基本财力保障机制奖补资金
A40: 1100208 | B40: 结算补助收入 | C40: 0
A41: 1100214 | B41: 企业事业单位划转补助收入 | C41: 0
...

Sheet 一般预算支出-功能
A1: 附件2
A2: 址山镇2021年一般公共预算支出预算调整表
A3: （功能分类支出）
A5: 科目号 | B5: 科目名称 | C5: 2021年预算 | D5: 初步调整预算 | E5: 上级补助 | F5: 调整预算数 | G5: 预计完成数
A6: 一、一般公共预算支出 | C6: =C7+C236+C276+C295+C385+C437+C493+C550+C686+C760+C839+C862+C973+C1037+C1100+C1120+C1150+C1160+C1205+C1227+C1270+C1326+C1327+C1332+C1340 -> 13800 | D6: =D7+D236+D276+D295+D385+D437+D493+D550+D686+D760+D839+D862+D973+D1037+D1100+D1120+D1150+D1160+D1205+D1227+D1270+D1326+D1327+D1332+D1340 -> 0 | E6: =E7+E236+E276+E295+E385+E437+E493+E550+E686+E760+E839+E862+E973+E1037+E1100+E1120+E1150+E1160+E1205+E1227+E1270+E1326+E1327+E1332+E1340 -> 1370.9 | F6: =F7+F236+F276+F295+F385+F437+F493+F550+F686+F760+F839+F862+F973+F1037+F1100+F1120+F1150+F1160+F1205+F1227+F1270+F1326+F1327+F1332+F1340 -> 1370.9 | G6: =G7+G236+G276+G295+G385+G437+G493+G550+G686+G760+G839+G862+G973+G1037+G1100+G1120+G1150+G1160+G1205+G1227+G1270+G1326+G1327+G1332+G1340 -> 15170.9
A7: 201 | B7: 一般公共服务支出 | C7: =C8+C20+C29+C40+C51+C62+C73+C81+C103+C112+C123+C135+C142+C150+C156+C163+C170+C177+C184+C191+C199+C205+C211+C218+C233+C90 -> 1864 | D7: =D8+D20+D29+D40+D51+D62+D73+D81+D103+D112+D123+D135+D142+D150+D156+D163+D170+D177+D184+D191+D199+D205+D211+D218+D233+D90 -> -103 | E7: =E8+E20+E29+E40+E51+E62+E73+E81+E103+E112+E123+E135+E142+E150+E156+E163+E170+E177+E184+E191+E199+E205+E211+E218+E233+E90 -> 74 | F7: =SUM(D7:E7) -> -29 | G7: =G8+G20+G29+G40+G51+G62+G73+G81+G103+G112+G123+G135+G142+G150+G156+G163+G170+G177+G184+G191+G199+G205+G211+G218+G233+G90 -> 1835
A8: 20101 | B8: 人大事务 | C8: 6 | D8: 0 | F8: =SUM(D8:E8) -> 0 | G8: =C8+F8 -> 6
A9: 2010101 | B9: 行政运行 | D9: 0 | F9: =SUM(D9:E9) -> 0 | G9: 0
A10: 2010102 | B10: 一般行政管理事务 | D10: 0 | F10: =SUM(D10:E10) -> 0 | G10: 0
A11: 2010103 | B11: 机关服务 | D11: 0 | F11: =SUM(D11:E11) -> 0 | G11: 0
A12: 2010104 | B12: 人大会议 | D12: 0 | F12: =SUM(D12:E12) -> 0 | G12: 0
A13: 2010105 | B13: 人大立法 | D13: 0 | F13: =SUM(D13:E13) -> 0 | G13: 0
A14: 2010106 | B14: 人大监督 | D14: 0 | F14: =SUM(D14:E14) -> 0 | G14: 0
A15: 2010107 | B15: 人大代表履职能力提升 | D15: 0 | F15: =SUM(D15:E15) -> 0 | G15: 0
A16: 2010108 | B16: 代表工作 | D16: 0 | F16: =SUM(D16:E16) -> 0 | G16: 0
A17: 2010109 | B17: 人大信访工作 | D17: 0 | F17: =SUM(D17:E17) -> 0 | G17: 0
A18: 2010150 | B18: 事业运行 | F18: =SUM(D18:E18) -> 0 | G18: 0
A19: 2010199 | B19: 其他人大事务支出 | C19: 6 | D19: 0 | F19: =SUM(D19:E19) -> 0 | G19: 6
A20: 20102 | B20: 政协事务 | C20: =SUM(C21:C28) -> 0 | D20: =SUM(D21:D28) -> 0 | F20: =SUM(D20:E20) -> 0 | G20: =SUM(G21:G28) -> 0
A21: 2010201 | B21: 行政运行 | D21: 0 | F21: =SUM(D21:E21) -> 0 | G21: 0
A22: 2010202 | B22: 一般行政管理事务 | D22: 0 | F22: =SUM(D22:E22) -> 0 | G22: 0
A23: 2010203 | B23: 机关服务 | D23: 0 | F23: =SUM(D23:E23) -> 0 | G23: 0
A24: 2010204 | B24: 政协会议 | D24: 0 | F24: =SUM(D24:E24) -> 0 | G24: 0
A25: 2010205 | B25: 委员视察 | D25: 0 | F25: =SUM(D25:E25) -> 0 | G25: 0
A26: 2010206 | B26: 参政议政 | D26: 0 | F26: =SUM(D26:E26) -> 0 | G26: 0
A27: 2010250 | B27: 事业运行 | F27: =SUM(D27:E27) -> 0
A28: 2010299 | B28: 其他政协事务支出 | C28: 0 | D28: 0 | F28: =SUM(D28:E28) -> 0 | G28: 0
A29: 20103 | B29: 政府办公厅（室）及相关机构事务 | C29: =SUM(C30:C39) -> 1734 | D29: -103 | E29: =SUM(E30:E39) -> 54 | F29: =SUM(D29:E29) -> -49 | G29: =SUM(G30:G39) -> 1685
A30: 2010301 | B30: 行政运行 | C30: 1084 | D30: 0 | E30: 54 | F30: =SUM(D30:E30) -> 54 | G30: =C30+F30 -> 1138
A31: 2010302 | B31: 一般行政管理事务 | C31: 327 | D31: -72 | F31: =SUM(D31:E31) -> -72 | G31: =C31+F31 -> 255
A32: 2010303 | B32: 机关服务 | D32: 0 | F32: =SUM(D32:E32) -> 0 | G32: 0
A33: 2010304 | B33: 专项服务 | D33: 0 | F33: =SUM(D33:E33) -> 0 | G33: 0
A34: 2010305 | B34: 专项业务及机关事务管理 | D34: 0 | F34: =SUM(D34:E34) -> 0 | G34: 0
A35: 2010306 | B35: 政务公开审批 | D35: 0 | F35: =SUM(D35:E35) -> 0 | G35: 0
A36: 2010308 | B36: 信访事务 | D36: 0 | F36: =SUM(D36:E36) -> 0 | G36: 0
A37: 2010309 | B37: 参事事务 | F37: =SUM(D37:E37) -> 0
A38: 2010350 | B38: 事业运行 | C38: 271 | D38: -31 | F38: =SUM(D38:E38) -> -31 | G38: =C38+F38 -> 240
A39: 2010399 | B39: 其他政府办公厅（室）及相关机构事务支出 | C39: 52 | D39: 0 | F39: =SUM(D39:E39) -> 0 | G39: =C39+F39 -> 52
A40: 20104 | B40: 发展与改革事务 | C40: =SUM(C41:C50) -> 0 | D40: =SUM(D41:D50) -> 0 | F40: =SUM(D40:E40) -> 0 | G40: =SUM(G41:G50) -> 0
A41: 2010401 | B41: 行政运行 | D41: 0 | F41: =SUM(D41:E41) -> 0 | G41: 0
...

Sheet 一般预算支出-经济
A1: 附件3
A2: 址山镇2021年一般公共预算支出预算调整表
A3: （经济分类支出）
A5: 科目号 | B5: 科目名称 | C5: 2021年预算 | D5: 调整预算数 | E5: 预计完成数
A6: 一、一般公共预算支出 | C6: =C7+C12+C23+C31+C38+C42+C45+C49+C52+C58+C62+C67+C70 -> 13800 | D6: =D7+D12+D23+D31+D38+D42+D45+D49+D52+D58+D62+D67+D70 -> 1370.9 | E6: =E7+E12+E23+E31+E38+E42+E45+E49+E52+E58+E61+E66+E69 -> 15170.9
A7: 501 | B7: 机关工资福利支出 | C7: =SUM(C8:C11) -> 1692 | D7: =SUM(D8:D11) -> 30 | E7: =SUM(C7:D7) -> 1722
A8: 50101 | B8: 工资奖金津补贴 | C8: 1222 | E8: =SUM(C8:D8) -> 1222
A9: 50102 | B9: 社会保障缴费 | C9: 240 | E9: =SUM(C9:D9) -> 240
A10: 50103 | B10: 住房公积金 | C10: 110 | D10: 30 | E10: =SUM(C10:D10) -> 140
A11: 50199 | B11: 其他工资福利支出 | C11: 120 | E11: =SUM(C11:D11) -> 120
A12: 502 | B12: 机关商品和服务支出 | C12: =SUM(C13:C22) -> 3882 | D12: =SUM(D13:D22) -> 763 | E12: =SUM(C12:D12) -> 4645
A13: 50201 | B13: 办公经费 | C13: 507 | D13: 2 | E13: =SUM(C13:D13) -> 509
A14: 50202 | B14: 会议费 | C14: 7 | E14: =SUM(C14:D14) -> 7
A15: 50203 | B15: 培训费 | C15: 3 | E15: =SUM(C15:D15) -> 3
A16: 50204 | B16: 专用材料购置费 | C16: 0 | D16: 118 | E16: =SUM(C16:D16) -> 118
A17: 50205 | B17: 委托业务费 | C17: 221 | D17: 31 | E17: =SUM(C17:D17) -> 252
A18: 50206 | B18: 公务接待费 | C18: 43 | E18: =SUM(C18:D18) -> 43
A19: 50207 | B19: 因公出国（境）费用 | C19: 0 | E19: =SUM(C19:D19) -> 0
A20: 50208 | B20: 公务用车运行维护费 | C20: 30 | E20: =SUM(C20:D20) -> 30
A21: 50209 | B21: 维修(护)费 | C21: 505 | E21: =SUM(C21:D21) -> 505
A22: 50299 | B22: 其他商品和服务支出 | C22: 2566 | D22: =330+282 -> 612 | E22: =SUM(C22:D22) -> 3178
A23: 503 | B23: 机关资本性支出（一） | C23: =SUM(C24:C30) -> 0 | D23: =SUM(D24:D30) -> 56.9 | E23: =SUM(E24:E30) -> 56.9
A24: 50301 | B24: 房屋建筑物购建 | C24: 0 | E24: =SUM(C24:D24) -> 0
A25: 50302 | B25: 基础设施建设 | C25: 0 | D25: 56.9 | E25: =SUM(C25:D25) -> 56.9
A26: 50303 | B26: 公务用车购置 | C26: 0 | E26: =SUM(C26:D26) -> 0
A27: 50305 | B27: 土地征迁补偿和安置支出 | C27: 0 | E27: =SUM(C27:D27) -> 0
A28: 50306 | B28: 设备购置 | C28: 0 | E28: =SUM(C28:D28) -> 0
A29: 50307 | B29: 大型修缮 | C29: 0 | E29: =SUM(C29:D29) -> 0
A30: 50399 | B30: 其他资本性支出 | C30: 0 | E30: =SUM(C30:D30) -> 0
A31: 504 | B31: 机关资本性支出（二） | C31: =SUM(C32:C37) -> 0 | E31: =SUM(C31:D31) -> 0
A32: 50401 | B32: 房屋建筑物购建 | E32: =SUM(C32:D32) -> 0
A33: 50402 | B33: 基础设施建设 | E33: =SUM(C33:D33) -> 0
A34: 50403 | B34: 公务用车购置
A35: 50404 | B35: 设备购置
A36: 50405 | B36: 大型修缮
A37: 50499 | B37: 其他资本性支出
A38: 505 | B38: 对事业单位经常性补助 | C38: =SUM(C39:C41) -> 4827 | D38: =SUM(D39:D41) -> 200 | E38: =SUM(E39:E41) -> 5027
A39: 50501 | B39: 工资福利支出 | C39: 4493 | E39: =SUM(C39:D39) -> 4493
A40: 50502 | B40: 商品和服务支出 | C40: 334 | D40: 200 | E40: =SUM(C40:D40) -> 534
A41: 50599 | B41: 其他对事业单位补助
...
