Workbook

Sheet 封面
A1: 附件1：
A9: 鹤山市2020年本级一般公共预算 调整表
A21: 编制单位：鹤山市财政局 | I21: 编制日期：2020年 月 日

Sheet 总表
A1: 附件1-1：
A2: 鹤山市2020年本级一般公共预算调整表
J3: 单位：万元
A4: 收入项目 | F4: 支出项目
A5: 科目号 | B5: 科目名称 | C5: 第二次调整预算数 | D5: 第三次调整 | F5: 科目号 | G5: 科目名称 | H5: 第二次调整预算数 | I5: 第三次调整
D6: 调整额 | E6: 调整预算数 | I6: 调整额 | J6: 调整预算数
A7: 一、一般公共预算收入 | C7: =C8+C9 -> 219053 | D7: =D8+D9 -> 0 | E7: =E8+E9 -> 219053 | F7: 一、一般公共预算支出 | H7: =SUM(H8:H30) -> 337534 | I7: =SUM(I8:I30) -> -51912 | J7: =SUM(J8:J30) -> 285622
A8: 101 | B8: 税收收入 | C8: =本级一般公共预算收入!G7 -> 130117 | D8: =E8-C8 -> 0 | E8: =本级一般公共预算收入!I7 -> 130117 | F8: 201 | G8: 一般公共服务支出 | H8: ='本级一般预算支出-功能'!G8 -> 53702 | I8: =J8-H8 -> -11778 | J8: ='本级一般预算支出-功能'!I8 -> 41924
A9: 103 | B9: 非税收入 | C9: =本级一般公共预算收入!G22 -> 88936 | D9: =E9-C9 -> 0 | E9: =本级一般公共预算收入!I22 -> 88936 | F9: 203 | G9: 国防支出 | H9: ='本级一般预算支出-功能'!G292 -> 982 | I9: =J9-H9 -> -100 | J9: ='本级一般预算支出-功能'!I292 -> 882
A10: 二、上级补助收入 | C10: =C11+C12+C13 -> 56760 | D10: =D11+D12+D13 -> 17108 | E10: =E11+E12+E13 -> 73868 | F10: 204 | G10: 公共安全支出 | H10: ='本级一般预算支出-功能'!G311 -> 30398 | I10: =J10-H10 -> -4624 | J10: ='本级一般预算支出-功能'!I311 -> 25774
A11: 11001 | B11: 返还性收入 | C11: =本级一般公共预算收入!G32 -> 25575 | D11: =E11-C11 -> 0 | E11: =本级一般公共预算收入!I32 -> 25575 | F11: 205 | G11: 教育支出 | H11: ='本级一般预算支出-功能'!G402 -> 55612 | I11: =J11-H11 -> -7839 | J11: ='本级一般预算支出-功能'!I402 -> 47773
A12: 11002 | B12: 一般性转移支付收入 | C12: =本级一般公共预算收入!G38 -> 23585 | D12: =E12-C12 -> 9848 | E12: =本级一般公共预算收入!I38 -> 33433 | F12: 206 | G12: 科学技术支出 | H12: ='本级一般预算支出-功能'!G456 -> 6238 | I12: =J12-H12 -> 2065 | J12: ='本级一般预算支出-功能'!I456 -> 8303
A13: 11003 | B13: 专项转移支付收入 | C13: =本级一般公共预算收入!G59 -> 7600 | D13: =E13-C13 -> 7260 | E13: =本级一般公共预算收入!I59 -> 14860 | F13: 207 | G13: 文化旅游体育与传媒支出 | H13: ='本级一般预算支出-功能'!G510 -> 11002 | I13: =J13-H13 -> -915 | J13: ='本级一般预算支出-功能'!I510 -> 10087
A14: 三、债务转贷收入 | C14: =本级一般公共预算收入!G60 -> 17606 | D14: =E14-C14 -> 0 | E14: =本级一般公共预算收入!I60 -> 17606 | F14: 208 | G14: 社会保障和就业支出 | H14: ='本级一般预算支出-功能'!G567 -> 59652 | I14: =J14-H14 -> -3865 | J14: ='本级一般预算支出-功能'!I567 -> 55787
A15: 四、上年结余结转 | C15: =本级一般公共预算收入!G63 -> 14115 | D15: =E15-C15 -> 1961 | E15: =本级一般公共预算收入!I63 -> 16076 | F15: 210 | G15: 卫生健康支出 | H15: ='本级一般预算支出-功能'!G698 -> 22167 | I15: =J15-H15 -> 3926 | J15: ='本级一般预算支出-功能'!I698 -> 26093
A16: 五、调入资金 | C16: =本级一般公共预算收入!G65 -> 118856 | D16: =E16-C16 -> -59256 | E16: =本级一般公共预算收入!I65 -> 59600 | F16: 211 | G16: 节能环保支出 | H16: ='本级一般预算支出-功能'!G772 -> 3794 | I16: =J16-H16 -> 550 | J16: ='本级一般预算支出-功能'!I772 -> 4344
A17: 六、动用预算稳定调节基金 | C17: =本级一般公共预算收入!G69 -> 3587 | D17: =E17-C17 -> 0 | E17: =本级一般公共预算收入!I69 -> 3587 | F17: 212 | G17: 城乡社区支出 | H17: ='本级一般预算支出-功能'!G850 -> 18633 | I17: =J17-H17 -> -2042 | J17: ='本级一般预算支出-功能'!I850 -> 16591
A18: 七、镇上解县 | C18: =本级一般公共预算收入!G71 -> 6420 | D18: =E18-C18 -> 0 | E18: =本级一般公共预算收入!I71 -> 6420 | F18: 213 | G18: 农林水支出 | H18: ='本级一般预算支出-功能'!G873 -> 22223 | I18: =J18-H18 -> -9348 | J18: ='本级一般预算支出-功能'!I873 -> 12875
F19: 214 | G19: 交通运输支出 | H19: ='本级一般预算支出-功能'!G984 -> 11645 | I19: =J19-H19 -> -7824 | J19: ='本级一般预算支出-功能'!I984 -> 3821
F20: 215 | G20: 资源勘探工业信息等支出 | H20: ='本级一般预算支出-功能'!G1048 -> 733 | I20: =J20-H20 -> 3008 | J20: ='本级一般预算支出-功能'!I1048 -> 3741
F21: 216 | G21: 商业服务业等支出 | H21: ='本级一般预算支出-功能'!G1114 -> 2591 | I21: =J21-H21 -> -328 | J21: ='本级一般预算支出-功能'!I1114 -> 2263
F22: 217 | G22: 金融支出 | H22: ='本级一般预算支出-功能'!G1134 -> 0 | I22: =J22-H22 -> 7 | J22: ='本级一般预算支出-功能'!I1134 -> 7
F23: 220 | G23: 自然资源海洋气象等支出 | H23: ='本级一般预算支出-功能'!G1174 -> 3696 | I23: =J23-H23 -> -605 | J23: ='本级一般预算支出-功能'!I1174 -> 3091
F24: 221 | G24: 住房保障支出 | H24: ='本级一般预算支出-功能'!G1219 -> 8351 | I24: =J24-H24 -> -1202 | J24: ='本级一般预算支出-功能'!I1219 -> 7149
F25: 222 | G25: 粮油物资储备支出 | H25: ='本级一般预算支出-功能'!G1241 -> 2158 | I25: =J25-H25 -> -450 | J25: ='本级一般预算支出-功能'!I1241 -> 1708
F26: 224 | G26: 灾害防治及应急管理支出 | H26: ='本级一般预算支出-功能'!G1294 -> 3548 | I26: =J26-H26 -> -309 | J26: ='本级一般预算支出-功能'!I1294 -> 3239
F27: 227 | G27: 预备费 | H27: ='本级一般预算支出-功能'!G1351 -> 4800 | I27: =J27-H27 -> -400 | J27: ='本级一般预算支出-功能'!I1351 -> 4400
F28: 229 | G28: 其他支出 | H28: ='本级一般预算支出-功能'!G1352 -> 9083 | I28: =J28-H28 -> -9046 | J28: ='本级一般预算支出-功能'!I1352 -> 37
F29: 232 | G29: 债务付息支出 | H29: ='本级一般预算支出-功能'!G1356 -> 6500 | I29: =J29-H29 -> -787 | J29: ='本级一般预算支出-功能'!I1356 -> 5713
F30: 233 | G30: 债务发行费用支出 | H30: ='本级一般预算支出-功能'!G1364 -> 26 | I30: =J30-H30 -> -6 | J30: ='本级一般预算支出-功能'!I1364 -> 20
F31: 二、上解上级支出 | H31: ='本级一般预算支出-功能'!G1368 -> 38376 | I31: =J31-H31 -> 246 | J31: ='本级一般预算支出-功能'!I1368 -> 38622
F32: 三、县对镇的补助支出 | H32: ='本级一般预算支出-功能'!G1374 -> 37162 | I32: =J32-H32 -> -3083 | J32: ='本级一般预算支出-功能'!I1374 -> 34079
F33: 四、债务还本支出 | H33: ='本级一般预算支出-功能'!G1377 -> 23325 | I33: =J33-H33 -> 0 | J33: ='本级一般预算支出-功能'!I1377 -> 23325
F34: 五、年终结转 | H34: ='本级一般预算支出-功能'!G1380 -> 0 | I34: =J34-H34 -> 14562 | J34: ='本级一般预算支出-功能'!I1380 -> 14562
F35: 六、安排预算稳定调节基金 | H35: ='本级一般预算支出-功能'!G1382 -> 0 | I35: =J35-H35 -> 0 | J35: ='本级一般预算支出-功能'!I1382 -> 0
A36: 收入合计 | C36: =C7+C10+C14+C15+C16+C17+C18 -> 436397 | D36: =D7+D10+D14+D15+D16+D17 -> -40187 | E36: =E7+E10+E14+E15+E16+E17+E18 -> 396210 | F36: 支出合计 | H36: =H7+H31+H32+H33+H34+H35 -> 436397 | I36: =I7+I31+I32+I33+I34+I35 -> -40187 | J36: =J7+J31+J32+J33+J34+J35 -> 396210

Sheet 本级一般公共预算收入
A1: 附件1-2：
A2: 鹤山市2020年本级一般公共预算收入预算调整表
I3: 单位:万元
A4: 科目号 | B4: 科目名称 | C4: 2020年 预算 | D4: 第一次预算调整 | F4: 第二次预算调整 | H4: 第三次预算调整
D5: 调整金额 | E5: 调整后 预算数 | F5: 调整金额 | G5: 调整后 预算数 | H5: 调整金额 | I5: 调整后 预算数
A6: 一、一般公共预算收入 | C6: =C7+C22 -> 219053 | D6: =E6-C6 -> 0 | E6: =E7+E22 -> 219053 | F6: =G6-E6 -> 0 | G6: =G7+G22 -> 219053 | H6: =I6-G6 -> 0 | I6: =I7+I22 -> 219053
A7: 101 | B7: 税收收入 | C7: =SUBTOTAL(9,C8:C21) -> 130117 | D7: =E7-C7 -> 0 | E7: =SUBTOTAL(9,E8:E21) -> 130117 | F7: =G7-E7 -> 0 | G7: =SUBTOTAL(9,G8:G21) -> 130117 | H7: =I7-G7 -> 0 | I7: =SUBTOTAL(9,I8:I21) -> 130117
A8: 10101 | B8: 增值税 | C8: 35001 | D8: =E8-C8 -> 0 | E8: 35001 | F8: =G8-E8 -> 0 | G8: 35001 | H8: =I8-G8 -> 0 | I8: 35001
A9: 10104 | B9: 企业所得税 | C9: 10042 | D9: =E9-C9 -> 0 | E9: 10042 | F9: =G9-E9 -> 0 | G9: 10042 | H9: =I9-G9 -> 0 | I9: 10042
A10: 10106 | B10: 个人所得税 | C10: 3089 | D10: =E10-C10 -> 0 | E10: 3089 | F10: =G10-E10 -> 0 | G10: 3089 | H10: =I10-G10 -> 0 | I10: 3089
A11: 10107 | B11: 资源税 | C11: 21 | D11: =E11-C11 -> 0 | E11: 21 | F11: =G11-E11 -> 0 | G11: 21 | H11: =I11-G11 -> 0 | I11: 21
A12: 10109 | B12: 城市维护建设税 | C12: 11062 | D12: =E12-C12 -> 0 | E12: 11062 | F12: =G12-E12 -> 0 | G12: 11062 | H12: =I12-G12 -> 0 | I12: 11062
A13: 10110 | B13: 房产税 | C13: 13404 | D13: =E13-C13 -> 0 | E13: 13404 | F13: =G13-E13 -> 0 | G13: 13404 | H13: =I13-G13 -> 0 | I13: 13404
A14: 10111 | B14: 印花税 | C14: 2808 | D14: =E14-C14 -> 0 | E14: 2808 | F14: =G14-E14 -> 0 | G14: 2808 | H14: =I14-G14 -> 0 | I14: 2808
A15: 10112 | B15: 城镇土地使用税 | C15: 9084 | D15: =E15-C15 -> 0 | E15: 9084 | F15: =G15-E15 -> 0 | G15: 9084 | H15: =I15-G15 -> 0 | I15: 9084
A16: 10113 | B16: 土地增值税 | C16: 21015 | D16: =E16-C16 -> 0 | E16: 21015 | F16: =G16-E16 -> 0 | G16: 21015 | H16: =I16-G16 -> 0 | I16: 21015
A17: 10114 | B17: 车船税 | C17: 2534 | D17: =E17-C17 -> 0 | E17: 2534 | F17: =G17-E17 -> 0 | G17: 2534 | H17: =I17-G17 -> 0 | I17: 2534
A18: 10118 | B18: 耕地占用税 | C18: 893 | D18: =E18-C18 -> 0 | E18: 893 | F18: =G18-E18 -> 0 | G18: 893 | H18: =I18-G18 -> 0 | I18: 893
A19: 10119 | B19: 契税 | C19: 21100 | D19: =E19-C19 -> 0 | E19: 21100 | F19: =G19-E19 -> 0 | G19: 21100 | H19: =I19-G19 -> 0 | I19: 21100
A20: 10121 | B20: 环境保护税 | C20: 64 | D20: =E20-C20 -> 0 | E20: 64 | F20: =G20-E20 -> 0 | G20: 64 | H20: =I20-G20 -> 0 | I20: 64
A21: 10199 | B21: 其他税收收入 | D21: =E21-C21 -> 0 | F21: =G21-E21 -> 0 | H21: =I21-G21 -> 0
A22: 103 | B22: 非税收入 | C22: =SUBTOTAL(9,C23:C30) -> 88936 | D22: =E22-C22 -> 0 | E22: =SUBTOTAL(9,E23:E30) -> 88936 | F22: =G22-E22 -> 0 | G22: =SUBTOTAL(9,G23:G30) -> 88936 | H22: =I22-G22 -> 0 | I22: =SUBTOTAL(9,I23:I30) -> 88936
A23: 10302 | B23: 专项收入 | C23: 18792 | D23: =E23-C23 -> 0 | E23: 18792 | F23: =G23-E23 -> 0 | G23: 18792 | H23: =I23-G23 -> 0 | I23: 18792
A24: 10304 | B24: 行政事业性收费收入 | C24: 5270 | D24: =E24-C24 -> 0 | E24: 5270 | F24: =G24-E24 -> 0 | G24: 5270 | H24: =I24-G24 -> 0 | I24: 5270
A25: 10305 | B25: 罚没收入 | C25: 5930 | D25: =E25-C25 -> 0 | E25: 5930 | F25: =G25-E25 -> 0 | G25: 5930 | H25: =I25-G25 -> 0 | I25: 5930
A26: 10306 | B26: 国有资本经营收入 | C26: 29200 | D26: =E26-C26 -> 0 | E26: 29200 | F26: =G26-E26 -> 0 | G26: 29200 | H26: =I26-G26 -> 0 | I26: 29200
A27: 10307 | B27: 国有资源（资产）有偿使用收入 | C27: 27539 | D27: =E27-C27 -> 0 | E27: 27539 | F27: =G27-E27 -> 0 | G27: 27539 | H27: =I27-G27 -> 0 | I27: 27539
A28: 10308 | B28: 捐赠收入 | C28: 450 | D28: =E28-C28 -> 0 | E28: 450 | F28: =G28-E28 -> 0 | G28: 450 | H28: =I28-G28 -> 0 | I28: 450
A29: 10309 | B29: 政府住房基金收入 | C29: 1755 | D29: =E29-C29 -> 0 | E29: 1755 | F29: =G29-E29 -> 0 | G29: 1755 | H29: =I29-G29 -> 0 | I29: 1755
A30: 10399 | B30: 其他收入 | D30: =E30-C30 -> 0 | F30: =G30-E30 -> 0 | H30: =I30-G30 -> 0
A31: 二、上级补助收入 | C31: =C32+C38+C59 -> 56760 | D31: =E31-C31 -> 0 | E31: =E32+E38+E59 -> 56760 | F31: =G31-E31 -> 0 | G31: =G32+G38+G59 -> 56760 | H31: =I31-G31 -> 17108 | I31: =I32+I38+I59 -> 73868
A32: 11001 | B32: 返还性收入 | C32: =SUBTOTAL(9,C33:C37) -> 25575 | D32: =E32-C32 -> 0 | E32: =SUBTOTAL(9,E33:E37) -> 25575 | F32: =G32-E32 -> 0 | G32: =SUBTOTAL(9,G33:G37) -> 25575 | H32: =I32-G32 -> 0 | I32: =SUBTOTAL(9,I33:I37) -> 25575
A33: 1100102 | B33: 所得税基数返还收入 | C33: 1608 | D33: =E33-C33 -> 0 | E33: 1608 | F33: =G33-E33 -> 0 | G33: 1608 | H33: =I33-G33 -> 0 | I33: 1608
A34: 1100103 | B34: 成品油税费改革税收返还收入 | C34: 1535 | D34: =E34-C34 -> 0 | E34: 1535 | F34: =G34-E34 -> 0 | G34: 1535 | H34: =I34-G34 -> 0 | I34: 1535
A35: 1100104 | B35: 增值税税收返还收入 | C35: 8199 | D35: =E35-C35 -> 0 | E35: 8199 | F35: =G35-E35 -> 0 | G35: 8199 | H35: =I35-G35 -> 0 | I35: 8199
A36: 1100106 | B36: 增值税“五五分享”税收返还收入 | C36: 10829 | D36: =E36-C36 -> 0 | E36: 10829 | F36: =G36-E36 -> 0 | G36: 10829 | H36: =I36-G36 -> 0 | I36: 10829
A37: 1100199 | B37: 其他税收返还收入 | C37: 3404 | D37: =E37-C37 -> 0 | E37: 3404 | F37: =G37-E37 -> 0 | G37: 3404 | H37: =I37-G37 -> 0 | I37: 3404
A38: 11002 | B38: 一般性转移支付收入 | C38: =SUBTOTAL(9,C39:C58) -> 23585 | D38: =E38-C38 -> 0 | E38: =SUBTOTAL(9,E39:E58) -> 23585 | F38: =G38-E38 -> 0 | G38: =SUBTOTAL(9,G39:G58) -> 23585 | H38: =I38-G38 -> 9848 | I38: =SUBTOTAL(9,I39:I58) -> 33433
A39: 1100202 | B39: 均衡性转移支付收入 | C39: 1276 | D39: =E39-C39 -> 0 | E39: 1276 | F39: =G39-E39 -> 0 | G39: 1276 | H39: =I39-G39 -> 901 | I39: 2177
A40: 1100207 | B40: 县级基本财力保障机制奖补资金 | C40: 0 | D40: =E40-C40 -> 0 | E40: 0 | F40: =G40-E40 -> 0 | G40: 0 | H40: =I40-G40 -> 3298 | I40: 3298
...

Sheet 本级一般预算支出-功能
A1: 附件1-3：
A2: 鹤山市2020年本级一般公共预算支出预算调整表
A3: （功能分类支出）
I4: 单位:万元
A5: 科目号 | B5: 科目名称 | C5: 2020年预算 | D5: 第一次预算调整 | F5: 第二次预算调整 | H5: 第三次预算调整
D6: 调整金额 | E6: 调整后 预算数 | F6: 调整金额 | G6: 调整后 预算数 | H6: 调整金额 | I6: 调整后 预算数
A7: 一、一般公共预算支出 | C7: 335901 | D7: =E7-C7 -> 0 | E7: 335901 | F7: =G7-E7 -> 1633 | G7: =G8+G292+G311+G402+G456+G510+G567+G698+G772+G850+G873+G984+G1048+G1114+G1174+G1219+G1241+G1294+G1351+G1352+G1356+G1364 -> 337534 | H7: =I7-G7 -> -51912 | I7: =I8+I292+I311+I402+I456+I510+I567+I698+I772+I850+I873+I984+I1048+I1114+I1134+I1174+I1219+I1241+I1294+I1351+I1352+I1356+I1364 -> 285622
A8: 201 | B8: 一般公共服务支出 | C8: 53702 | D8: =E8-C8 -> 0 | E8: =E9+E21+E30+E41+E52+E63+E74+E86+E95+E108+E118+E127+E138+E151+E158+E166+E172+E179+E186+E193+E200+E207+E215+E221+E227+E234+E249 -> 53702 | F8: =G8-E8 -> 0 | G8: =G9+G21+G30+G41+G52+G63+G74+G86+G95+G108+G118+G127+G138+G151+G158+G166+G172+G179+G186+G193+G200+G207+G215+G221+G227+G234+G249 -> 53702 | H8: =I8-G8 -> -11778 | I8: =I9+I21+I30+I41+I52+I63+I74+I86+I95+I108+I118+I127+I138+I151+I158+I166+I172+I179+I186+I193+I200+I207+I215+I221+I227+I234+I249 -> 41924
A9: 20101 | B9: 人大事务 | C9: 1334 | D9: =E9-C9 -> 0 | E9: =SUM(E10:E20) -> 1334 | F9: =G9-E9 -> 0 | G9: =SUM(G10:G20) -> 1334 | H9: =I9-G9 -> -260 | I9: =SUM(I10:I20) -> 1074
A10: 2010101 | B10: 行政运行 | C10: 776 | D10: =E10-C10 -> 0 | E10: 776 | F10: =G10-E10 -> 0 | G10: 776 | H10: =I10-G10 -> 26 | I10: 802
A11: 2010102 | B11: 一般行政管理事务 | C11: 60 | D11: =E11-C11 -> 0 | E11: 60 | F11: =G11-E11 -> 0 | G11: 60 | H11: =I11-G11 -> 29 | I11: 89
A12: 2010103 | B12: 机关服务 | C12: 9 | D12: =E12-C12 -> 0 | E12: 9 | F12: =G12-E12 -> 0 | G12: 9 | H12: =I12-G12 -> 10 | I12: 19
A13: 2010104 | B13: 人大会议 | C13: 66 | D13: =E13-C13 -> 0 | E13: 66 | F13: =G13-E13 -> 0 | G13: 66 | H13: =I13-G13 -> 4 | I13: 70
A14: 2010105 | B14: 人大立法 | C14: 2 | D14: =E14-C14 -> 0 | E14: 2 | F14: =G14-E14 -> 0 | G14: 2 | H14: =I14-G14 -> -2 | I14: 0
A15: 2010106 | B15: 人大监督 | C15: 0 | D15: =E15-C15 -> 0 | E15: 0 | F15: =G15-E15 -> 0 | G15: 0 | H15: =I15-G15 -> 0 | I15: 0 | K15: 2
A16: 2010107 | B16: 人大代表履职能力提升 | C16: 12 | D16: =E16-C16 -> 0 | E16: 12 | F16: =G16-E16 -> 0 | G16: 12 | H16: =I16-G16 -> -7 | I16: 5
A17: 2010108 | B17: 代表工作 | C17: 29 | D17: =E17-C17 -> 0 | E17: 29 | F17: =G17-E17 -> 0 | G17: 29 | H17: =I17-G17 -> -16 | I17: 13
A18: 2010109 | B18: 人大信访工作 | C18: 9 | D18: =E18-C18 -> 0 | E18: 9 | F18: =G18-E18 -> 0 | G18: 9 | H18: =I18-G18 -> 0 | I18: 9
A19: 2010150 | B19: 事业运行 | C19: 0 | D19: =E19-C19 -> 0 | E19: 0 | F19: =G19-E19 -> 0 | G19: 0 | H19: =I19-G19 -> 0 | I19: 0 | K19: 2
A20: 2010199 | B20: 其他人大事务支出 | C20: 371 | D20: =E20-C20 -> 0 | E20: 371 | F20: =G20-E20 -> 0 | G20: 371 | H20: =I20-G20 -> -304 | I20: 67
A21: 20102 | B21: 政协事务 | C21: 926 | D21: =E21-C21 -> 0 | E21: =SUM(E22:E29) -> 926 | F21: =G21-E21 -> 0 | G21: =SUM(G22:G29) -> 926 | H21: =I21-G21 -> -4 | I21: =SUM(I22:I29) -> 922
A22: 2010201 | B22: 行政运行 | C22: 592 | D22: =E22-C22 -> 0 | E22: 592 | F22: =G22-E22 -> 0 | G22: 592 | H22: =I22-G22 -> 15 | I22: 607
A23: 2010202 | B23: 一般行政管理事务 | C23: 42 | D23: =E23-C23 -> 0 | E23: 42 | F23: =G23-E23 -> 0 | G23: 42 | H23: =I23-G23 -> 36 | I23: 78
A24: 2010203 | B24: 机关服务 | C24: 11 | D24: =E24-C24 -> 0 | E24: 11 | F24: =G24-E24 -> 0 | G24: 11 | H24: =I24-G24 -> 0 | I24: 11
A25: 2010204 | B25: 政协会议 | C25: 70 | D25: =E25-C25 -> 0 | E25: 70 | F25: =G25-E25 -> 0 | G25: 70 | H25: =I25-G25 -> -29 | I25: 41
A26: 2010205 | B26: 委员视察 | C26: 46 | D26: =E26-C26 -> 0 | E26: 46 | F26: =G26-E26 -> 0 | G26: 46 | H26: =I26-G26 -> -15 | I26: 31
A27: 2010206 | B27: 参政议政 | C27: 20 | D27: =E27-C27 -> 0 | E27: 20 | F27: =G27-E27 -> 0 | G27: 20 | H27: =I27-G27 -> -3 | I27: 17
A28: 2010250 | B28: 事业运行 | C28: 0 | D28: =E28-C28 -> 0 | E28: 0 | F28: =G28-E28 -> 0 | G28: 0 | H28: =I28-G28 -> 0 | I28: 0 | K28: 2
A29: 2010299 | B29: 其他政协事务支出 | C29: 145 | D29: =E29-C29 -> 0 | E29: 145 | F29: =G29-E29 -> 0 | G29: 145 | H29: =I29-G29 -> -8 | I29: 137
A30: 20103 | B30: 政府办公厅（室）及相关机构事务 | C30: 8346 | D30: =E30-C30 -> 0 | E30: =SUM(E31:E40) -> 8346 | F30: =G30-E30 -> 0 | G30: =SUM(G31:G40) -> 8346 | H30: =I30-G30 -> -1116 | I30: =SUM(I31:I40) -> 7230
A31: 2010301 | B31: 行政运行 | C31: 2355 | D31: =E31-C31 -> 0 | E31: 2355 | F31: =G31-E31 -> 0 | G31: 2355 | H31: =I31-G31 -> 28 | I31: 2383
A32: 2010302 | B32: 一般行政管理事务 | C32: 775 | D32: =E32-C32 -> 0 | E32: 775 | F32: =G32-E32 -> 0 | G32: 775 | H32: =I32-G32 -> 10 | I32: 785
A33: 2010303 | B33: 机关服务 | C33: 146 | D33: =E33-C33 -> 0 | E33: 146 | F33: =G33-E33 -> 0 | G33: 146 | H33: =I33-G33 -> -96 | I33: 50
A34: 2010304 | B34: 专项服务 | C34: 0 | D34: =E34-C34 -> 0 | E34: 0 | F34: =G34-E34 -> 0 | G34: 0 | H34: =I34-G34 -> 0 | I34: 0 | K34: 2
A35: 2010305 | B35: 专项业务活动 | C35: 113 | D35: =E35-C35 -> 0 | E35: 113 | F35: =G35-E35 -> 0 | G35: 113 | H35: =I35-G35 -> -1 | I35: 112
A36: 2010306 | B36: 政务公开审批 | C36: 40 | D36: =E36-C36 -> 0 | E36: 40 | F36: =G36-E36 -> 0 | G36: 40 | H36: =I36-G36 -> -5 | I36: 35
A37: 2010308 | B37: 信访事务 | C37: 408 | D37: =E37-C37 -> 0 | E37: 408 | F37: =G37-E37 -> 0 | G37: 408 | H37: =I37-G37 -> -297 | I37: 111
A38: 2010309 | B38: 参事事务 | C38: 0 | D38: =E38-C38 -> 0 | E38: 0 | F38: =G38-E38 -> 0 | G38: 0 | H38: =I38-G38 -> 0 | I38: 0 | K38: 2
A39: 2010350 | B39: 事业运行 | C39: 1047 | D39: =E39-C39 -> 0 | E39: 1047 | F39: =G39-E39 -> 0 | G39: 1047 | H39: =I39-G39 -> 26 | I39: 1073
A40: 2010399 | B40: 其他政府办公厅（室）及相关机构事务支出 | C40: 3462 | D40: =E40-C40 -> 0 | E40: 3462 | F40: =G40-E40 -> 0 | G40: 3462 | H40: =I40-G40 -> -781 | I40: 2681
...

Sheet 本级一般预算支出-经济
A1: 附件1-4：
A2: 鹤山市2020年本级一般公共预算支出预算调整表
A3: （经济分类支出）
I4: 单位:万元
A5: 科目号 | B5: 科目名称 | C5: 2020年 预算 | D5: 第一次预算调整 | F5: 第二次预算调整 | H5: 第三次预算调整
D6: 调整金额 | E6: 调整后 预算数 | F6: 调整金额 | G6: 调整后 预算数 | H6: 调整金额 | I6: 调整后 预算数
A7: 一、一般公共预算支出 | C7: 335901 | D7: =E7-C7 -> 0 | E7: =E8+E13+E24+E32+E39+E43+E46+E50+E53+E59+E62+E67+E70 -> 335901 | F7: =G7-E7 -> 1633 | G7: =G8+G13+G24+G32+G39+G43+G46+G50+G53+G59+G62+G67+G70 -> 337534 | H7: =I7-G7 -> -51912 | I7: =I8+I13+I24+I32+I39+I43+I46+I50+I53+I59+I62+I67+I70 -> 285622
A8: 501 | B8: 机关工资福利支出 | C8: 72601 | D8: =E8-C8 -> 0 | E8: =SUM(E9:E12) -> 72601 | F8: =G8-E8 -> 0 | G8: =SUM(G9:G12) -> 72601 | H8: =I8-G8 -> -3764 | I8: =SUM(I9:I12) -> 68837
A9: 50101 | B9: 工资奖金津补贴 | C9: 44595 | D9: =E9-C9 -> 0 | E9: 44595 | F9: =G9-E9 -> 0 | G9: 44595 | H9: =I9-G9 -> -3774 | I9: 40821
A10: 50102 | B10: 社会保障缴费 | C10: 9577 | D10: =E10-C10 -> 0 | E10: 9577 | F10: =G10-E10 -> 0 | G10: 9577 | H10: =I10-G10 -> 4096 | I10: 13673
A11: 50103 | B11: 住房公积金 | C11: 3913 | D11: =E11-C11 -> 0 | E11: 3913 | F11: =G11-E11 -> 0 | G11: 3913 | H11: =I11-G11 -> -609 | I11: 3304
A12: 50199 | B12: 其他工资福利支出 | C12: 14516 | D12: =E12-C12 -> 0 | E12: 14516 | F12: =G12-E12 -> 0 | G12: 14516 | H12: =I12-G12 -> -3477 | I12: 11039
A13: 502 | B13: 机关商品和服务支出 | C13: 73599 | D13: =E13-C13 -> 0 | E13: =SUM(E14:E23) -> 73599 | F13: =G13-E13 -> 0 | G13: =SUM(G14:G23) -> 73599 | H13: =I13-G13 -> -25434 | I13: =SUM(I14:I23) -> 48165
A14: 50201 | B14: 办公经费 | C14: 6851 | D14: =E14-C14 -> 0 | E14: 6851 | F14: =G14-E14 -> 0 | G14: 6851 | H14: =I14-G14 -> -95 | I14: 6756
A15: 50202 | B15: 会议费 | C15: 266 | D15: =E15-C15 -> 0 | E15: 266 | F15: =G15-E15 -> 0 | G15: 266 | H15: =I15-G15 -> 0 | I15: 266
A16: 50203 | B16: 培训费 | C16: 1022 | D16: =E16-C16 -> 0 | E16: 1022 | F16: =G16-E16 -> 0 | G16: 1022 | H16: =I16-G16 -> 0 | I16: 1022
A17: 50204 | B17: 专用材料购置费 | C17: 879 | D17: =E17-C17 -> 0 | E17: 879 | F17: =G17-E17 -> 0 | G17: 879 | H17: =I17-G17 -> -505 | I17: 374
A18: 50205 | B18: 委托业务费 | C18: 5219 | D18: =E18-C18 -> 0 | E18: 5219 | F18: =G18-E18 -> 0 | G18: 5219 | H18: =I18-G18 -> 31 | I18: 5250
A19: 50206 | B19: 公务接待费 | C19: 471 | D19: =E19-C19 -> 0 | E19: 471 | F19: =G19-E19 -> 0 | G19: 471 | H19: =I19-G19 -> 0 | I19: 471
A20: 50207 | B20: 因公出国（境）费用 | C20: 57 | D20: =E20-C20 -> 0 | E20: 57 | F20: =G20-E20 -> 0 | G20: 57 | H20: =I20-G20 -> 0 | I20: 57
A21: 50208 | B21: 公务用车运行维护费 | C21: 766 | D21: =E21-C21 -> 0 | E21: 766 | F21: =G21-E21 -> 0 | G21: 766 | H21: =I21-G21 -> 0 | I21: 766
A22: 50209 | B22: 维修(护)费 | C22: 654 | D22: =E22-C22 -> 0 | E22: 654 | F22: =G22-E22 -> 0 | G22: 654 | H22: =I22-G22 -> -173 | I22: 481
A23: 50299 | B23: 其他商品和服务支出 | C23: 57414 | D23: =E23-C23 -> 0 | E23: 57414 | F23: =G23-E23 -> 0 | G23: 57414 | H23: =I23-G23 -> -24692 | I23: 32722
A24: 503 | B24: 机关资本性支出（一） | C24: 25532 | D24: =E24-C24 -> 0 | E24: =SUM(E25:E31) -> 25532 | F24: =G24-E24 -> 1633 | G24: =SUM(G25:G31) -> 27165 | H24: =I24-G24 -> -15161 | I24: =SUM(I25:I31) -> 12004
A25: 50301 | B25: 房屋建筑物购建 | C25: 1162 | D25: =E25-C25 -> 0 | E25: 1162 | F25: =G25-E25 -> 0 | G25: 1162 | H25: =I25-G25 -> -462 | I25: 700
A26: 50302 | B26: 基础设施建设 | C26: 10960 | D26: =E26-C26 -> 0 | E26: 10960 | F26: =G26-E26 -> 1633 | G26: 12593 | H26: =I26-G26 -> -7564 | I26: 5029
A27: 50303 | B27: 公务用车购置 | C27: 88 | D27: =E27-C27 -> 0 | E27: 88 | F27: =G27-E27 -> 0 | G27: 88 | H27: =I27-G27 -> 0 | I27: 88
A28: 50305 | B28: 土地征迁补偿和安置支出 | C28: 0 | D28: =E28-C28 -> 0 | E28: 0 | F28: =G28-E28 -> 0 | G28: 0 | H28: =I28-G28 -> 0
A29: 50306 | B29: 设备购置 | C29: 6177 | D29: =E29-C29 -> 0 | E29: 6177 | F29: =G29-E29 -> 0 | G29: 6177 | H29: =I29-G29 -> -2107 | I29: 4070
A30: 50307 | B30: 大型修缮 | C30: 1331 | D30: =E30-C30 -> 0 | E30: 1331 | F30: =G30-E30 -> 0 | G30: 1331 | H30: =I30-G30 -> -321 | I30: 1010
A31: 50399 | B31: 其他资本性支出 | C31: 5814 | D31: =E31-C31 -> 0 | E31: 5814 | F31: =G31-E31 -> 0 | G31: 5814 | H31: =I31-G31 -> -4707 | I31: 1107
A32: 504 | B32: 机关资本性支出（二） | C32: 0 | D32: =E32-C32 -> 0 | E32: =SUM(E33:E38) -> 0 | F32: =G32-E32 -> 0 | G32: =SUM(G33:G38) -> 0 | H32: =I32-G32 -> 16 | I32: =SUM(I33:I38) -> 16
A33: 50401 | B33: 房屋建筑物购建 | C33: 0 | D33: =E33-C33 -> 0 | E33: 0 | F33: =G33-E33 -> 0 | G33: 0 | H33: =I33-G33 -> 0
A34: 50402 | B34: 基础设施建设 | C34: 0 | D34: =E34-C34 -> 0 | E34: 0 | F34: =G34-E34 -> 0 | G34: 0 | H34: =I34-G34 -> 0
A35: 50403 | B35: 公务用车购置 | C35: 0 | D35: =E35-C35 -> 0 | E35: 0 | F35: =G35-E35 -> 0 | G35: 0 | H35: =I35-G35 -> 0
A36: 50404 | B36: 设备购置 | C36: 0 | D36: =E36-C36 -> 0 | E36: 0 | F36: =G36-E36 -> 0 | G36: 0 | H36: =I36-G36 -> 16 | I36: 16
A37: 50405 | B37: 大型修缮 | C37: 0 | D37: =E37-C37 -> 0 | E37: 0 | F37: =G37-E37 -> 0 | G37: 0 | H37: =I37-G37 -> 0
A38: 50499 | B38: 其他资本性支出 | C38: 0 | D38: =E38-C38 -> 0 | E38: 0 | F38: =G38-E38 -> 0 | G38: 0 | H38: =I38-G38 -> 0
A39: 505 | B39: 对事业单位经常性补助 | C39: 70721 | D39: =E39-C39 -> 0 | E39: =SUM(E40:E42) -> 70721 | F39: =G39-E39 -> 0 | G39: =SUM(G40:G42) -> 70721 | H39: =I39-G39 -> -2028 | I39: =SUM(I40:I42) -> 68693
A40: 50501 | B40: 工资福利支出 | C40: 57115 | D40: =E40-C40 -> 0 | E40: 57115 | F40: =G40-E40 -> 0 | G40: 57115 | H40: =I40-G40 -> -975 | I40: 56140
...
